View In:
ArcGIS JavaScript
ArcGIS Online Map Viewer
ArcGIS Earth
Service Description: Elevation/LiDAR_DEM_2017_cached
Name: Elevation/LiDAR_DEM_2017_cached
Description:
Single Fused Map Cache: true
Tile Info:
- Height: 256
- Width: 256
- DPI: 96
-
Levels of Detail: 19
-
Level ID: 0
[ Start Tile, End Tile ]
- Resolution: 938198.981998994
- Scale: 1.080807388877619E9
-
Level ID: 1
[ Start Tile, End Tile ]
- Resolution: 469099.490999497
- Scale: 5.404036944388095E8
-
Level ID: 2
[ Start Tile, End Tile ]
- Resolution: 234549.7454997485
- Scale: 2.7020184721940476E8
-
Level ID: 3
[ Start Tile, End Tile ]
- Resolution: 117274.87274987425
- Scale: 1.3510092360970238E8
-
Level ID: 4
[ Start Tile, End Tile ]
- Resolution: 58637.436374937126
- Scale: 6.755046180485119E7
-
Level ID: 5
[ Start Tile, End Tile ]
- Resolution: 29318.718187468563
- Scale: 3.3775230902425595E7
-
Level ID: 6
[ Start Tile, End Tile ]
- Resolution: 14659.359093734281
- Scale: 1.6887615451212797E7
-
Level ID: 7
[ Start Tile, End Tile ]
- Resolution: 7329.679546867141
- Scale: 8443807.725606399
-
Level ID: 8
[ Start Tile, End Tile ]
- Resolution: 3664.8397734335704
- Scale: 4221903.862803199
-
Level ID: 9
[ Start Tile, End Tile ]
- Resolution: 1832.4198867167852
- Scale: 2110951.9314015997
-
Level ID: 10
[ Start Tile, End Tile ]
- Resolution: 916.2099433583926
- Scale: 1055475.9657007998
-
Level ID: 11
[ Start Tile, End Tile ]
- Resolution: 458.1049716791963
- Scale: 527737.9828503999
-
Level ID: 12
[ Start Tile, End Tile ]
- Resolution: 229.05248583959815
- Scale: 263868.99142519996
-
Level ID: 13
[ Start Tile, End Tile ]
- Resolution: 114.52624291979907
- Scale: 131934.49571259998
-
Level ID: 14
[ Start Tile, End Tile ]
- Resolution: 57.26312145989954
- Scale: 65967.24785629999
-
Level ID: 15
[ Start Tile, End Tile ]
- Resolution: 28.63156072994977
- Scale: 32983.623928149995
-
Level ID: 16
[ Start Tile, End Tile ]
- Resolution: 14.315780364974884
- Scale: 16491.811964074997
-
Level ID: 17
[ Start Tile, End Tile ]
- Resolution: 7.157890182487442
- Scale: 8245.905982037499
-
Level ID: 18
[ Start Tile, End Tile ]
- Resolution: 3.578945091243721
- Scale: 4122.952991018749
- Format: LERC
- Compression Quality: 0.0
- LERC Error: 0.05
- Origin: X: -1.1812096969587123E8
Y: 1.1601305483767672E8
- Spatial Reference: 103191
(6609)
VCSWkid(105703)
LatestVCSWkid(6360)
Storage Info:
- Storage Format: esriMapCacheStorageModeCompactV2
- Packet Size: 128
Extent:
XMin: 2424187.0
YMin: 184623.0
XMax: 2561713.0
YMax: 251490.0
Spatial Reference: 103191
(6609)
LatestVCSWkid(0)
Initial Extent:
XMin: 2424187.0
YMin: 184623.0
XMax: 2561713.0
YMax: 251490.0
Spatial Reference: 103191
(6609)
LatestVCSWkid(0)
Full Extent:
XMin: 2424187.0
YMin: 184623.0
XMax: 2561713.0
YMax: 251490.0
Spatial Reference: 103191
(6609)
LatestVCSWkid(0)
Pixel Size X: 1.0
Pixel Size Y: 1.0
Band Count: 1
Pixel Type: F32
RasterFunction Infos: {"rasterFunctionInfos": [{
"name": "None",
"description": "A No-Op Function.",
"help": ""
}]}
Mensuration Capabilities: Basic
Inspection Capabilities:
Has Histograms: true
Has Colormap: false
Has Multi Dimensions : false
Rendering Rule:
Min Scale: 4221903.862803199
Max Scale: 4122.952991018749
Min LOD: 8
Max LOD: 18
Copyright Text:
Service Data Type: esriImageServiceDataTypeElevation
Min Values: 578.7261962890625
Max Values: 994.2230224609375
Mean Values: 751.6673605653716
Standard Deviation Values: 67.55950608792965
Object ID Field: OBJECTID
Fields:
-
OBJECTID
(
type: esriFieldTypeOID, alias: OBJECTID
)
-
Name
(
type: esriFieldTypeString, alias: Name, length: 200
)
-
MinPS
(
type: esriFieldTypeDouble, alias: MinPS
)
-
MaxPS
(
type: esriFieldTypeDouble, alias: MaxPS
)
-
LowPS
(
type: esriFieldTypeDouble, alias: LowPS
)
-
HighPS
(
type: esriFieldTypeDouble, alias: HighPS
)
-
Category
(
type: esriFieldTypeInteger, alias: Category
, Coded Values:
[0: Unknown]
, [1: Primary]
, [2: Overview]
, ...6 more...
)
-
Tag
(
type: esriFieldTypeString, alias: Tag, length: 100
)
-
GroupName
(
type: esriFieldTypeString, alias: GroupName, length: 100
)
-
ProductName
(
type: esriFieldTypeString, alias: ProductName, length: 100
)
-
CenterX
(
type: esriFieldTypeDouble, alias: CenterX
)
-
CenterY
(
type: esriFieldTypeDouble, alias: CenterY
)
-
ZOrder
(
type: esriFieldTypeInteger, alias: ZOrder
)
-
Shape
(
type: esriFieldTypeGeometry, alias: Shape
)
Default Mosaic Method: Northwest
Allowed Mosaic Methods: NorthWest,Center,LockRaster,ByAttribute,Nadir,Viewpoint,Seamline,None
SortField:
SortValue: null
Mosaic Operator: Mean
Default Compression Quality: 75
Default Resampling Method: Bilinear
Max Record Count: 1000
Max Image Height: 4100
Max Image Width: 15000
Max Download Image Count: 20
Max Mosaic Image Count: 43
Allow Raster Function: true
Allow Copy: true
Allow Analysis: true
Allow Compute TiePoints: false
Supports Statistics: true
Supports Advanced Queries: true
Use StandardizedQueries: true
Raster Type Infos:
Name: Raster Dataset
Description: Supports all ArcGIS Raster Datasets
Help:
Has Raster Attribute Table: false
Edit Fields Info: null
Ownership Based AccessControl For Rasters: null
Child Resources:
Info
Histograms
Statistics
Key Properties
Legend
Raster Function Infos
Supported Operations:
Export Image
Query
Identify
Measure
Compute Histograms
Compute Statistics Histograms
Get Samples
Compute Class Statistics
Query GPS Info
Find Images
Image to Map
Map to Image
Measure from Image
Image to Map Multiray
Query Boundary
Compute Pixel Location
Compute Angles
Validate
Project
Calculate Volume