{
 "currentVersion": 11.5,
 "serviceDescription": "Elevation/LiDAR_DEM_2017_cached",
 "serviceItemId": "be04b9fe3fb040e595ae29a1e7061ed6",
 "name": "Elevation/LiDAR_DEM_2017_cached",
 "description": "",
 "extent": {
  "xmin": 2424187,
  "ymin": 184623,
  "xmax": 2561713,
  "ymax": 251490,
  "spatialReference": {
   "wkid": 103191,
   "latestWkid": 6609
  }
 },
 "initialExtent": {
  "xmin": 2424187,
  "ymin": 184623,
  "xmax": 2561713,
  "ymax": 251490,
  "spatialReference": {
   "wkid": 103191,
   "latestWkid": 6609
  }
 },
 "fullExtent": {
  "xmin": 2424187,
  "ymin": 184623,
  "xmax": 2561713,
  "ymax": 251490,
  "spatialReference": {
   "wkid": 103191,
   "latestWkid": 6609
  }
 },
 "sortableFields": "MinPS,MaxPS,LowPS,HighPS,CenterX,CenterY,ZOrder",
 "bandCount": 1,
 "pixelType": "F32",
 "minValues": [
  578.7261962890625
 ],
 "maxValues": [
  994.2230224609375
 ],
 "meanValues": [
  751.6673605653716
 ],
 "stdvValues": [
  67.55950608792965
 ],
 "serviceProperties": "NorthWest<\/MosaicMethod>Mean<\/MosaicOperator>true<\/SortAscending><\/LockImageID>Name<\/TileOrderField>0<\/TileOrderBase>600.000000<\/AvgImageSpacingX>300.000000<\/AvgImageSpacingY>0.0<\/ViewPointX>0.0<\/ViewPointY>0.0<\/ViewPointDefShiftX>0.0<\/ViewPointDefShiftY>LZ77<\/CompressionMethod>75<\/CompressionQuality>0.100000<\/CompressionTolerance>Bilinear<\/SamplingMethod><\/ImageServiceProperties><\/ImageServer>",
 "allowedFields": "Name,MinPS,MaxPS,LowPS,HighPS,Tag,GroupName,ProductName,CenterX,CenterY,ZOrder",
 "hasMultidimensions": false,
 "pixelSizeX": 1,
 "pixelSizeY": 1,
 "meanPixelSize": 0.30480060960121924,
 "datasetFormat": "AMD",
 "uncompressedSize": 36783804168,
 "blockWidth": 2048,
 "blockHeight": 256,
 "compressionType": "None",
 "bandNames": [
  "Band_1"
 ],
 "allowCopy": true,
 "allowAnalysis": true,
 "itemAccess": false,
 "inspectionCapabilities": "",
 "minPixelSize": 3.578945091243721,
 "maxPixelSize": 3664.8397734335704,
 "copyrightText": "",
 "serviceDataType": "esriImageServiceDataTypeElevation",
 "serviceSourceType": "esriImageServiceSourceTypeMosaicDataset",
 "objectIdField": "OBJECTID",
 "fields": [
  {
   "name": "OBJECTID",
   "type": "esriFieldTypeOID",
   "alias": "OBJECTID",
   "domain": null
  },
  {
   "name": "Name",
   "type": "esriFieldTypeString",
   "alias": "Name",
   "domain": null,
   "length": 200
  },
  {
   "name": "MinPS",
   "type": "esriFieldTypeDouble",
   "alias": "MinPS",
   "domain": null
  },
  {
   "name": "MaxPS",
   "type": "esriFieldTypeDouble",
   "alias": "MaxPS",
   "domain": null
  },
  {
   "name": "LowPS",
   "type": "esriFieldTypeDouble",
   "alias": "LowPS",
   "domain": null
  },
  {
   "name": "HighPS",
   "type": "esriFieldTypeDouble",
   "alias": "HighPS",
   "domain": null
  },
  {
   "name": "Category",
   "type": "esriFieldTypeInteger",
   "alias": "Category",
   "domain": {
    "type": "codedValue",
    "name": "MosaicCatalogItemCategoryDomain",
    "description": "Catalog item categories.",
    "codedValues": [
     {
      "name": "Unknown",
      "code": 0
     },
     {
      "name": "Primary",
      "code": 1
     },
     {
      "name": "Overview",
      "code": 2
     },
     {
      "name": "Unprocessed Overview",
      "code": 3
     },
     {
      "name": "Partial Overview",
      "code": 4
     },
     {
      "name": "Inactive",
      "code": 5
     },
     {
      "name": "Uploaded",
      "code": 253
     },
     {
      "name": "Incomplete",
      "code": 254
     },
     {
      "name": "Custom",
      "code": 255
     }
    ],
    "mergePolicy": "esriMPTDefaultValue",
    "splitPolicy": "esriSPTDefaultValue"
   }
  },
  {
   "name": "Tag",
   "type": "esriFieldTypeString",
   "alias": "Tag",
   "domain": null,
   "length": 100
  },
  {
   "name": "GroupName",
   "type": "esriFieldTypeString",
   "alias": "GroupName",
   "domain": null,
   "length": 100
  },
  {
   "name": "ProductName",
   "type": "esriFieldTypeString",
   "alias": "ProductName",
   "domain": null,
   "length": 100
  },
  {
   "name": "CenterX",
   "type": "esriFieldTypeDouble",
   "alias": "CenterX",
   "domain": null
  },
  {
   "name": "CenterY",
   "type": "esriFieldTypeDouble",
   "alias": "CenterY",
   "domain": null
  },
  {
   "name": "ZOrder",
   "type": "esriFieldTypeInteger",
   "alias": "ZOrder",
   "domain": null
  },
  {
   "name": "Shape",
   "type": "esriFieldTypeGeometry",
   "alias": "Shape",
   "domain": null
  }
 ],
 "capabilities": "Image,Metadata,Catalog,Mensuration",
 "defaultMosaicMethod": "Northwest",
 "allowedMosaicMethods": "NorthWest,Center,LockRaster,ByAttribute,Nadir,Viewpoint,Seamline,None",
 "sortField": "",
 "sortValue": null,
 "sortAscending": true,
 "mosaicOperator": "Mean",
 "maxDownloadSizeLimit": 2048,
 "defaultCompressionQuality": 75,
 "defaultResamplingMethod": "Bilinear",
 "maxImageHeight": 4100,
 "maxImageWidth": 15000,
 "maxRecordCount": 1000,
 "maxDownloadImageCount": 20,
 "maxMosaicImageCount": 43,
 "singleFusedMapCache": true,
 "tileInfo": {
  "rows": 256,
  "cols": 256,
  "dpi": 96,
  "format": "LERC",
  "compressionQuality": 0,
  "lercError": 0.05,
  "origin": {
   "x": -1.1812096969587123E8,
   "y": 1.1601305483767672E8
  },
  "spatialReference": {
   "wkid": 103191,
   "latestWkid": 6609,
   "vcsWkid": 105703,
   "latestVcsWkid": 6360
  },
  "lods": [
   {
    "level": 0,
    "resolution": 938198.981998994,
    "scale": 1.080807388877619E9
   },
   {
    "level": 1,
    "resolution": 469099.490999497,
    "scale": 5.404036944388095E8
   },
   {
    "level": 2,
    "resolution": 234549.7454997485,
    "scale": 2.7020184721940476E8
   },
   {
    "level": 3,
    "resolution": 117274.87274987425,
    "scale": 1.3510092360970238E8
   },
   {
    "level": 4,
    "resolution": 58637.436374937126,
    "scale": 6.755046180485119E7
   },
   {
    "level": 5,
    "resolution": 29318.718187468563,
    "scale": 3.3775230902425595E7
   },
   {
    "level": 6,
    "resolution": 14659.359093734281,
    "scale": 1.6887615451212797E7
   },
   {
    "level": 7,
    "resolution": 7329.679546867141,
    "scale": 8443807.725606399
   },
   {
    "level": 8,
    "resolution": 3664.8397734335704,
    "scale": 4221903.862803199
   },
   {
    "level": 9,
    "resolution": 1832.4198867167852,
    "scale": 2110951.9314015997
   },
   {
    "level": 10,
    "resolution": 916.2099433583926,
    "scale": 1055475.9657007998
   },
   {
    "level": 11,
    "resolution": 458.1049716791963,
    "scale": 527737.9828503999
   },
   {
    "level": 12,
    "resolution": 229.05248583959815,
    "scale": 263868.99142519996
   },
   {
    "level": 13,
    "resolution": 114.52624291979907,
    "scale": 131934.49571259998
   },
   {
    "level": 14,
    "resolution": 57.26312145989954,
    "scale": 65967.24785629999
   },
   {
    "level": 15,
    "resolution": 28.63156072994977,
    "scale": 32983.623928149995
   },
   {
    "level": 16,
    "resolution": 14.315780364974884,
    "scale": 16491.811964074997
   },
   {
    "level": 17,
    "resolution": 7.157890182487442,
    "scale": 8245.905982037499
   },
   {
    "level": 18,
    "resolution": 3.578945091243721,
    "scale": 4122.952991018749
   }
  ]
 },
 "storageInfo": {
  "storageFormat": "esriMapCacheStorageModeCompactV2",
  "packetSize": 128
 },
 "cacheType": "Elevation",
 "allowRasterFunction": true,
 "rasterFunctionInfos": [
  {
   "name": "None",
   "description": "A No-Op Function.",
   "help": ""
  }
 ],
 "rasterTypeInfos": [
  {
   "name": "Raster Dataset",
   "description": "Supports all ArcGIS Raster Datasets",
   "help": ""
  }
 ],
 "mensurationCapabilities": "Basic",
 "hasHistograms": true,
 "hasColormap": false,
 "hasRasterAttributeTable": false,
 "minScale": 4221903.862803199,
 "maxScale": 4122.952991018749,
 "minLOD": 8,
 "maxLOD": 18,
 "exportTilesAllowed": false,
 "supportsStatistics": true,
 "supportsAdvancedQueries": true,
 "editFieldsInfo": null,
 "ownershipBasedAccessControlForRasters": null,
 "allowComputeTiePoints": false,
 "useStandardizedQueries": true,
 "advancedQueryCapabilities": {
  "useStandardizedQueries": true,
  "supportsStatistics": true,
  "supportsOrderBy": true,
  "supportsDistinct": true,
  "supportsPagination": true
 },
 "spatialReference": {
  "wkid": 103191,
  "latestWkid": 6609
 }
}
